BEGIN:VCALENDAR
VERSION:2.0
PRODID:-//Tuo Sito//Gestore Eventi//EN
BEGIN:VEVENT
UID:cose-mai-viste-58285702196@bresciabimbi.it
DTSTAMP:20260421T113036Z
DTSTART:20260510T080000Z
DTEND:20260510T170000Z
SUMMARY:Cose Mai Viste
DESCRIPTION:Domenica 10 Maggio, la magnifica cornice della Rocca di Lonato del Garda si trasforma in un villaggio incantato dedicato alla fantasia, all'artigianato e al divertimento all'aria aperta. Un appuntamento imperdibile per grandi e piccini, perfetto per trascorrere una giornata diversa in uno dei luoghi più suggestivi del nostro territorio.

🌟 Cosa troveranno le famiglie?
L'evento è pensato per offrire stimoli a ogni età, unendo la scoperta della storia al piacere del gioco e della creazione:

Laboratori Creativi: organizzati da Brescia Bimbi
Giochi di una volta: Un'area con bellissimi giochi in legno per divertirsi insieme all'aria aperta, riscoprendo il piacere della manualità e della condivisione.
PIPER! Illustrazione e Carta: All'interno del padiglione Glass House, uno spazio magico dedicato al mondo dei libri e del disegno che incanterà i piccoli lettori e i sognatori.
Gusto on the Road: Una selezione di food truck con proposte sfiziose per un pranzo o una merenda sul prato in totale relax.
🏰 Cultura e Meraviglia
Il biglietto include anche la possibilità di esplorare il lato artistico della Rocca:

La mostra temporanea Italia del Miracolo (Arte, Design e Pubblicità 1948-1968).
La visita alla Casa del Podestà e al curioso Museo Ornitologico, sempre molto apprezzato dai bambini.
ℹ️ Info Utili

Quando: Domenica 10 Maggio, dalle ore 10.00 alle 19.00.
Dove: Rocca di Lonato del Garda (BS).
Costo: Ingresso speciale ridotto a € 6
Gratuità: L'ingresso è GRATUITO per i bambini sotto i 14 anni e per i residenti di Lonato del Garda.
Amici a 4 zampe: L'evento è Pet Friendly, i vostri cani sono i benvenuti (al guinzaglio).
✨ Perché andarci?
È l'occasione perfetta per staccare la spina, lasciare correre la fantasia dei bambini in un luogo sicuro e ricco di storia, e magari trovare un pezzo unico d'artigianato fatto a mano.

Vi aspettiamo per una giornata di Cose Mai Viste!
LOCATION:Via Rocca, 2, Lonato del Garda
URL:https://bresciabimbi.it/?p=265697
END:VEVENT
END:VCALENDAR
