BEGIN:VCALENDAR
VERSION:2.0
PRODID:-//Tuo Sito//Gestore Eventi//EN
BEGIN:VEVENT
UID:festa-dautunno-58285702196@bresciabimbi.it
DTSTAMP:20260421T084334Z
DTSTART:20251018T082700Z
DTEND:20251019T082700Z
SUMMARY:Festa d'Autunno
DESCRIPTION:📅 Sabato 18 e Domenica 19 ottobre
🕑 Dalle 14 alle 18

Due pomeriggi tra natura, giochi e sapori autunnali:
🌰 Caldarroste solidali – il ricavato sarà devoluto a Operazione Mato Grosso
🎨 Laboratori gratuiti per bambini in collaborazione con PIME:
👉 costruzione di un Batik, per scoprire l’Africa delle tradizioni e della saggezza
👉 creazione di un Mandala, per avvicinarsi alla colorata arte Indiana

🌳 …e naturalmente la possibilità di salire sui percorsi del Parco Avventura, per vivere l’autunno anche tra gli alberi!
📌 Non serve prenotare: basta portare entusiasmo e voglia di divertirsi!
LOCATION:Via Foscolo 10, Torre Boldone
URL:https://bresciabimbi.it/?p=263450
END:VEVENT
END:VCALENDAR
