BEGIN:VCALENDAR
VERSION:2.0
PRODID:-//Tuo Sito//Gestore Eventi//EN
BEGIN:VEVENT
UID:festa-della-mamma-in-biblioteca-npl-58285702196@bresciabimbi.it
DTSTAMP:20260425T160545Z
DTSTART:20260508T143000Z
DTEND:20260508T153000Z
SUMMARY:Festa della mamma in biblioteca! - NpL
DESCRIPTION:FESTA DELLA MAMMA IN BIBLIOTECA! - Nati per leggere

In occasione della Festa della mamma, la Biblioteca di Idro organizza
un incontro con le Volontarie di Nati per Leggere.

Venerdì 8 maggio 2026 alle ore 16.30 presso la Biblioteca di Idro
letture e consigli di lettura per bambini da 0 a 5 anni.

Iniziativa gratuita.
Si consiglia la prenotazione entro lunedì 4 maggio 2026.

Per maggiori informazioni e prenotazioni contattare oppure recarsi in biblioteca
(Biblioteca di Idro - Via Treviso Bresciano, 26)
LOCATION:VIA TREVISO BRESCIANO, 26, Idro
URL:https://bresciabimbi.it/?p=265728
END:VEVENT
END:VCALENDAR
