BEGIN:VCALENDAR
VERSION:2.0
PRODID:-//Tuo Sito//Gestore Eventi//EN
BEGIN:VEVENT
UID:in-viaggio-con-il-piccolo-principe-58285702196@bresciabimbi.it
DTSTAMP:20260420T082839Z
DTSTART:20250704T191500Z
DTEND:20250704T203000Z
SUMMARY:In viaggio con il Piccolo Principe
DESCRIPTION:Il Piccolo Principe è un libro che si legge una volta, poi un’altra e un’altra ancora. Perché ad ogni rilettura scopri cose nuove non solo del racconto, ma di te che lo stai leggendo. È una storia semplice ma intensa rivolta ai bambini ma anche ad ogni adulto ricordandogli che è stato un bambino.

Lo spettacolo racconta il viaggio del Piccolo Principe dall’asteroide B 612 alla Terra e l’incontro con i personaggi sparsi sul suo cammino: dall’aviatore precipitato con il suo aereo nel deserto del Sahara, al serpente che sarà l’ultimo che lo vedrà sulla terra. Sono questi intensi personaggi a mettere in scena l’amore, l’amicizia e il paradosso in cui vivono gli adulti. Lo fanno in modo grottesco e delicato rendendo lo spettacolo coinvolgente, ricco di situazioni poetiche e filosofiche, ma anche ironiche e divertenti, accompagnando con un tocco di modernità il pubblico dei ragazzi in un viaggio dentro e fuori dal mondo reale, per diventare una ricerca di quel Piccolo Principe che è in ognuno di noi.
LOCATION:Via Dante Alighieri, 15, Botticino
URL:https://bresciabimbi.it/?p=261246
END:VEVENT
END:VCALENDAR
