BEGIN:VCALENDAR
VERSION:2.0
PRODID:-//Tuo Sito//Gestore Eventi//EN
BEGIN:VEVENT
UID:inaugurazione-mostra-sul-200-della-banda-carlo-inico-58285702196@bresciabimbi.it
DTSTAMP:20260425T142535Z
DTSTART:20260503T080000Z
DTEND:20260503T090000Z
SUMMARY:Inaugurazione mostra sul 200° della Banda Carlo Inico
DESCRIPTION:Per festeggiare il 200° di attività della Banda cittadina "Carlo Inico" nel Maggio Monteclarense sono previsti diversi momenti celebrativi che si apriranno sabato 2 con la mostra che porterà in visione divise d'epoca, strumenti musicali, spartiti e immagini storiche del sodalizio diretto dal Maestro Luca Monteverdi. L'esposizione verrà inaugurata domenica 3 alle ore 10 alla presenza delle autorità comunali per rimanere aperta sino al 24 maggio. Orari di apertura: venerdì 9-12, sabato e domenica 9-12 e 15-18.
LOCATION:Via Trieste, Montichiari
URL:https://bresciabimbi.it/?p=265743
END:VEVENT
END:VCALENDAR
