BEGIN:VCALENDAR
VERSION:2.0
PRODID:-//Tuo Sito//Gestore Eventi//EN
BEGIN:VEVENT
UID:lemporio-delle-bacchette-58285702196-2@bresciabimbi.it
DTSTAMP:20260425T174300Z
DTSTART:20260524T123000Z
DTEND:20260524T140000Z
SUMMARY:L'emporio delle Bacchette
DESCRIPTION:Un'esperienza immersiva che inizia con il racconto de "Il Piccolo Mago Nico e la Bacchetta Dispettosa".

I bambini scopriranno che la magia non è solo un trucco, ma un'energia che nasce dal cuore.

Ogni partecipante diventerà un apprendista mago e creerà la propria bacchetta personalizzata, scegliendo i materiali in base alle proprie inclinazioni (legni, pietre e colori).
Al termine, ogni bambino reciterà il "Giuramento del Piccolo Mago".
COSA LASCIA IL LABORATORIO: 

 	La Bacchetta Magica costruita a mano.
 	Il Piccolo Prontuario degli Incantesimi

Il costo del laboratorio è 15€. 3€ saranno devoluti in beneficienza.
LOCATION:Piazza Santa Maria, 36, Montichiari
URL:https://bresciabimbi.it/?p=265715
END:VEVENT
END:VCALENDAR
