BEGIN:VCALENDAR
VERSION:2.0
PRODID:-//Tuo Sito//Gestore Eventi//EN
BEGIN:VEVENT
UID:mela-leggi-58285702196@bresciabimbi.it
DTSTAMP:20260421T084900Z
DTSTART:20250927T083000Z
DTEND:20250927T093000Z
SUMMARY:Mela Leggi
DESCRIPTION:Nati per Leggere

Letture ad alta voce per bambini 0-6 anni e le loro famiglie
a cura di Elena, volontaria Nati per Leggere
del Sistema Bibliotecario Nord-Est Bresciano

Sabato 27 settembre 2025

Ore 10:30 - 0/3 anni
Ore 11:00 - 3/6 anni

presso la Biblioteca Comunale
di Puegnago del Garda
in via Roma 4, c/o Villa Galnica

Gradita la prenotazione

Info e contatti:
Biblioteca Comunale "Aventino Frau"
di Puegnago del Garda
LOCATION:VICOLO ROMA 4, Puegnago sul Garda
URL:https://bresciabimbi.it/?p=263071
END:VEVENT
END:VCALENDAR
