BEGIN:VCALENDAR
VERSION:2.0
PRODID:-//Tuo Sito//Gestore Eventi//EN
BEGIN:VEVENT
UID:muovi-la-tua-vita-camminata-solidale-58285702196@bresciabimbi.it
DTSTAMP:20260421T115528Z
DTSTART:20260426T060000Z
DTEND:20260426T060000Z
SUMMARY:MUOVI LA TUA VITA - camminata solidale
DESCRIPTION:Camminata solidale ad offerta libera,  aperta a tutti. Il percorso si snoda fra le colline della Frnciacorta con punti panoramici di interesse. Strada per la maggior parte sterrata, che ogni anno viene appositamente studiato e cambiato corso per far conoscere le bellezze paesaggistiche della zona. . Lunghezza Km 13 e Km 7,5, Percorso facile senza particolari dislivelli. Servizio assitenza attico su tutto il percorso. Ristoro a metà dei 13 Km e per tutti all'arrivo. On occassione di 20 anni do ANASTASIS a tutti i partecipanti verrà distribuito un gadget. Un'occasione per una "passeggiara" in compagnia fra il verde. Il ricavato andrà a favore delle attivitò di ANASTASIS APS che aiuta le persone ammalate di tumore
LOCATION:Via Cairoli, 29 - Adro, Adro
URL:https://bresciabimbi.it/?p=265447
END:VEVENT
END:VCALENDAR
