BEGIN:VCALENDAR
VERSION:2.0
PRODID:-//Tuo Sito//Gestore Eventi//EN
BEGIN:VEVENT
UID:nati-per-leggere-in-consultorio-npl-58285702196-4@bresciabimbi.it
DTSTAMP:20260425T143305Z
DTSTART:20260427T073000Z
DTEND:20260622T100000Z
SUMMARY:Nati per leggere in Consultorio - NpL
DESCRIPTION:NATI PER LEGGERE IN CONSULTORIO - Aprile/Giugno
Iniziativa a cura del Sistema bibliotecario Nord-Est 
bresciano e le volontarie Nati per Leggere

Dalle 9:30 alle 12:00
Lunedì 27 aprile 2026
Lunedì 18 maggio 2026
Lunedì 22 giugno 2026

Presso il Consultorio Familiare di Villanuova sul Clisi - Via Bostone, 2 

· Una mattinata per dialogare sui benefici del
programma nazionale Nati per Leggere
· Possibilità d'iscrizione alla Rete Bibliotecaria
per i piccoli lettori
· Un'opportunità di prendere in prestito dei
libri di qualità per condividere la lettura in
famiglia

Per maggiori informazioni contattare il Sistema Bibliotecario
Nord-Est Bresciano (contatti nella locandina allegata)
LOCATION:Piazza Roma 1, Villanuova Sul Clisi
URL:https://bresciabimbi.it/?p=265734
END:VEVENT
END:VCALENDAR
