BEGIN:VCALENDAR
VERSION:2.0
PRODID:-//Tuo Sito//Gestore Eventi//EN
BEGIN:VEVENT
UID:nati-per-leggere-npl-58285702196-11@bresciabimbi.it
DTSTAMP:20260425T155548Z
DTSTART:20260509T083000Z
DTEND:20260520T143000Z
SUMMARY:Nati per leggere - NpL
DESCRIPTION:NATI PER LEGGERE - Letture Maggio 2026

Letture consigliate per bambine e bambini
Un’esperienza importante per lo
sviluppo cognitivo dei bambini e per
lo sviluppo delle capacità dei genitori
di crescere con i loro figli.

da 0-18 mesi
Sabato 9 Maggio, Ore 10.30

da 18-36 mesi
Mercoledì 20 Maggio, Ore 16.30

da 3-6 anni
Lunedì 11 Maggio, Ore 16.30

Presso la Biblioteca di Salò - Via Leonesio, 4

Per informazioni maggiori informazioni contattare oppure recarsi in biblioteca
LOCATION:VIA LEONESIO 4, Salò
URL:https://bresciabimbi.it/?p=265732
END:VEVENT
END:VCALENDAR
