BEGIN:VCALENDAR
VERSION:2.0
PRODID:-//Tuo Sito//Gestore Eventi//EN
BEGIN:VEVENT
UID:specchio-delle-mie-brame-58285702196@bresciabimbi.it
DTSTAMP:20260425T173054Z
DTSTART:20260524T143000Z
DTEND:20260524T160000Z
SUMMARY:Specchio delle mie brame
DESCRIPTION:Un percorso esperienziale che incanta e coinvolge. Tutto inizia con il racconto della fiaba di Mastro Vetraio, una storia che scalda l'immaginazione e prepara il cuore alla meraviglia. Segue un divertente gioco di movimento sul tema del riflesso, dove i bambini sperimentano con il corpo il concetto di "doppio" e di simmetria. Infine, l'energia si trasforma in creatività pura quando ogni bambino riceve il proprio specchio per dar vita a un oggetto magico e personale.

COSA LASCIA IL LABORATORIO: 

 	Lo Specchio Magico: Un vero oggetto d'arredo rifinito e pronto per essere appeso nella propria cameretta.
 	Il Ricordo della Fiaba: La capacità di guardarsi e sorridere ogni volta che vedranno il proprio riflesso.

Il costo del laboratorio è 15€. 3€ saranno devoluti in beneficienza.
LOCATION:Piazza Santa Maria, 36, Montichiari
URL:https://bresciabimbi.it/?p=265713
END:VEVENT
END:VCALENDAR
