BEGIN:VCALENDAR
VERSION:2.0
PRODID:-//Tuo Sito//Gestore Eventi//EN
BEGIN:VEVENT
UID:io-e-te-al-museo-victoria-mater-lidolo-e-licona-58285702196@bresciabimbi.it
DTSTAMP:20260421T084944Z
DTSTART:20260306T090000Z
DTEND:20260306T103000Z
SUMMARY:IO E TE AL MUSEO | VICTORIA MATER: L’IDOLO E L’ICONA
DESCRIPTION:IO E TE AL MUSEO | Percorsi per mamme in attesa e genitori con bimbi in fascia
venerdì 6 marzo, ore 10.20
VICTORIA MATER: L’IDOLO E L’ICONA
Brixia. Parco Archeologico di Brescia Romana
La visita al Parco archeologico culmina nell’Aula orientale del Capitolium con il confronto tra due emblematici bronzi romani, esposti per la prima volta insieme, in un innovativo allestimento curato dal poliedrico artista Francesco Vezzoli che dona inediti punti di vista e nuovi significati alle due statue antiche.
Il percorso è arricchito da suggerimenti di lettura sul tema “Museando: a spasso tra i libri” a cura del Sistema Bibliotecario Urbano.
Costo: 8 €; gratuito per i bambini/e in possesso del passaporto culturale e due accompagnatori.
LOCATION:Via Musei 55, Brescia
URL:https://bresciabimbi.it/?p=265071
END:VEVENT
END:VCALENDAR
