BEGIN:VCALENDAR
VERSION:2.0
PRODID:-//Tuo Sito//Gestore Eventi//EN
BEGIN:VEVENT
UID:le-castaghiotte-e-la-cacciatesorosa-castagnata-58285702196@bresciabimbi.it
DTSTAMP:20260423T082729Z
DTSTART:20251012T120000Z
DTEND:20251019T160000Z
SUMMARY:Le Castaghiotte e la Cacciatesorosa Castagnata
DESCRIPTION:Missione Castaghiotte!

📅 12 e 19 ottobre | ⏰ dalle 14.00 alle 18.00

L'autunno è ufficialmente arrivato, Fata Smemorina ha ripulito ben benino il bosco di castagni ed è tutto pronto e in sicurezza per la castagnata, se non fosse che...ha perso la sua mappa!!

Solo i bambini potranno aiutarla a ritrovare le castaghiotte nascoste nel bosco!

Un pomeriggio incantato tra foglie, ricci e sorrisi, giochi, sorprese e una castagnata finale da gustare tutti insieme.

Il programma delle attività del pomeriggio:

 	la ricerca dei rastrelli, dei castabastoni e della mappa dispersa
 	il riconoscimento dell’albero delle castaghiotte attraverso le foglie
 	impariamo ad aprire i ricci (con i piedini)
 	la raccolta sul pendio Ghiottoso seguendo la mappa del tesoro
 	la divisione delle castagne raccolte
 	i giochi e le sorprese
 	la castagnata finale

L’emozione del ricordo nasce dal condividere momenti insieme a chi si ama, per questo verranno tutti coinvolti.

Partecipazione SOLO SU PRENOTAZIONE.

COSTO:

– bambini 0/1 anni e diversamente abili: gratis
– bambini 1/3 anni euro 3,00
– bambini 3/10 anni compiuti euro 18,00  (riduzione per i fratelli)
– adulti e bambini sopra gli 11 anni euro 8,00

INFO IMPORTANTI

. L’attività verrà rinviata in caso di tuoni, fulmini e saette, la conferma agli iscritti con comunicazione diretta.

. Le attività sono pensate e svolte in lingua italiana, se nessun componente della famiglia conosce l’italiano diventa difficile seguire l’attività

. Attrezzarsi con stivaletti e/o scarpe di ricambio

. Eventuali altre date o momenti verranno attivati in base alle richieste.
LOCATION:via Massimo D'Azeglio, 51, Sarezzo
URL:https://bresciabimbi.it/?p=263269
END:VEVENT
END:VCALENDAR
