BEGIN:VCALENDAR
VERSION:2.0
PRODID:-//Tuo Sito//Gestore Eventi//EN
BEGIN:VEVENT
UID:mavs-4-kids-ornamenti-dal-passato-58285702196@bresciabimbi.it
DTSTAMP:20260423T114621Z
DTSTART:20260503T130000Z
DTEND:20260503T150000Z
SUMMARY:Mavs 4 Kids. Ornamenti dal passato
DESCRIPTION:Intrecciamo storia e creatività per dare vita ad un gioiello unico, ispirato agli antichi monili preistorici!

Domenica 3 maggio, alle ore 15, nella sede del MAVS di piazza San Bernardino a Gavardo è in programma lo speciale evento “Ornamenti dal passato”, un laboratorio creativo alla scoperta degli antichi monili preistorici.
L’iniziativa, curata dai servizi educativi del MAVS in collaborazione con le educatrici della Cooperativa La Melagrana, ha un costo di 3 euro a partecipante ed è rivolta alle bimbe e ai bimbi dai 5 ai 10 anni accompagnati.

È richiesta la prenotazione tramite modulo online
LOCATION:P.za San Bernardino 5, Gavardo
URL:https://bresciabimbi.it/?p=265724
END:VEVENT
END:VCALENDAR
