BEGIN:VCALENDAR
VERSION:2.0
PRODID:-//Tuo Sito//Gestore Eventi//EN
BEGIN:VEVENT
UID:ore-11-io-e-la-mia-mamma-58285702196@bresciabimbi.it
DTSTAMP:20260425T155613Z
DTSTART:20260510T090000Z
DTEND:20260510T103000Z
SUMMARY:ore 11 | Io e la Mia Mamma
DESCRIPTION:Il legame tra una madre e il suo bambino è un’opera d’arte che si scrive ogni giorno. Insieme daremo forma e colore a questo sentimento, trasformando un pezzo di legno grezzo e un foglio bianco in un ricordo prezioso da conservare per sempre.

&nbsp;
LOCATION:Via Rocca, 2, Lonato del Garda
URL:https://bresciabimbi.it/?p=265722
END:VEVENT
END:VCALENDAR
