BEGIN:VCALENDAR
VERSION:2.0
PRODID:-//Tuo Sito//Gestore Eventi//EN
BEGIN:VEVENT
UID:workshop-di-primavera-58285702196@bresciabimbi.it
DTSTAMP:20260421T120003Z
DTSTART:20260428T081500Z
DTEND:20260512T081500Z
SUMMARY:Workshop di Primavera
DESCRIPTION:Il Centro San Clemente di Brescia propone per i mesi di aprile e maggio una serie di workshop brevi e interessanti, pensati per chi ha sempre desiderio di imparare qualcosa di nuovo, stando in compagnia e godendosi la primavera. Dai workshop di composizione floreale, passando per il ricamo creativo e la calligrafia giapponese, fino alle passeggiate fotografiche in città muniti di macchina fotografica ma anche di un semplice smartphone. Perché molto spesso è il modo di guardare alle cose che cambia la prospettiva!
LOCATION:Via Cremona, 99, Brescia
URL:https://bresciabimbi.it/?p=265529
END:VEVENT
END:VCALENDAR
